BEGIN:VCALENDAR
VERSION:2.0
PRODID:-//Omar Islamic Center - CT - ECPv6.15.20//NONSGML v1.0//EN
CALSCALE:GREGORIAN
METHOD:PUBLISH
X-ORIGINAL-URL:https://oicct.org
X-WR-CALDESC:Events for Omar Islamic Center - CT
REFRESH-INTERVAL;VALUE=DURATION:PT1H
X-Robots-Tag:noindex
X-PUBLISHED-TTL:PT1H
BEGIN:VTIMEZONE
TZID:America/New_York
BEGIN:DAYLIGHT
TZOFFSETFROM:-0500
TZOFFSETTO:-0400
TZNAME:EDT
DTSTART:20220313T070000
END:DAYLIGHT
BEGIN:STANDARD
TZOFFSETFROM:-0400
TZOFFSETTO:-0500
TZNAME:EST
DTSTART:20221106T060000
END:STANDARD
BEGIN:DAYLIGHT
TZOFFSETFROM:-0500
TZOFFSETTO:-0400
TZNAME:EDT
DTSTART:20230312T070000
END:DAYLIGHT
BEGIN:STANDARD
TZOFFSETFROM:-0400
TZOFFSETTO:-0500
TZNAME:EST
DTSTART:20231105T060000
END:STANDARD
BEGIN:DAYLIGHT
TZOFFSETFROM:-0500
TZOFFSETTO:-0400
TZNAME:EDT
DTSTART:20240310T070000
END:DAYLIGHT
BEGIN:STANDARD
TZOFFSETFROM:-0400
TZOFFSETTO:-0500
TZNAME:EST
DTSTART:20241103T060000
END:STANDARD
END:VTIMEZONE
BEGIN:VTIMEZONE
TZID:America/New_York
BEGIN:DAYLIGHT
TZOFFSETFROM:-0500
TZOFFSETTO:-0400
TZNAME:EDT
DTSTART:20220313T070000
END:DAYLIGHT
BEGIN:STANDARD
TZOFFSETFROM:-0400
TZOFFSETTO:-0500
TZNAME:EST
DTSTART:20221106T060000
END:STANDARD
BEGIN:DAYLIGHT
TZOFFSETFROM:-0500
TZOFFSETTO:-0400
TZNAME:EDT
DTSTART:20230312T070000
END:DAYLIGHT
BEGIN:STANDARD
TZOFFSETFROM:-0400
TZOFFSETTO:-0500
TZNAME:EST
DTSTART:20231105T060000
END:STANDARD
BEGIN:DAYLIGHT
TZOFFSETFROM:-0500
TZOFFSETTO:-0400
TZNAME:EDT
DTSTART:20240310T070000
END:DAYLIGHT
BEGIN:STANDARD
TZOFFSETFROM:-0400
TZOFFSETTO:-0500
TZNAME:EST
DTSTART:20241103T060000
END:STANDARD
END:VTIMEZONE
BEGIN:VEVENT
DTSTART;TZID=America/New_York:20230422T120000
DTEND;TZID=America/New_York:20230422T170000
DTSTAMP:20260423T105014
CREATED:20230420T051720Z
LAST-MODIFIED:20230420T051720Z
UID:876-1682164800-1682182800@oicct.org
SUMMARY:Eid Festival 4/22/2023
DESCRIPTION:It is with pleasure we also invite you to an Eid Festival. \n \nWhat:\nEid Festival (Saturday\, April 22nd at Veterans Memorial Park 83 Walnut Grove Rd Middletown\, CT 06457) \n \nWe have reserved the entire park for our community. The event will start at 12pm en sha’a Allah. We will be cooking hamburgers\, chicken\, and hotdogs. We will also bring water\, juice\, and ice cream 🍦for our children. We ask the community members to bring some pasta\, rice\, dessert\, and salad en sha’a Allah. It will also be great if you can bring some foldable tables and chairs.
URL:https://oicct.org/event/eid-festival-4-22-2023/
LOCATION:Veteran’s Memorial Park\, 83 Walnut Grove Rd\, Middletown\, CT\, 06457\, United States
END:VEVENT
BEGIN:VEVENT
DTSTART;TZID=America/New_York:20230421T090000
DTEND;TZID=America/New_York:20230421T100000
DTSTAMP:20260423T105014
CREATED:20230420T051533Z
LAST-MODIFIED:20230420T052037Z
UID:873-1682067600-1682071200@oicct.org
SUMMARY:Eid Prayer 4/21/2023
DESCRIPTION:Eid will be on Friday\, April 21st en sha’a Allah. \nEid Prayer will be held at:\nVeterans Memorial Park\, 83 Walnut Grove Rd Middletown\, CT 06457 \nTakbeer will start at 9am and prayer at 9:30am \nPlease bring some donuts\, cookies\, and coffee to share with your brothers and sisters after prayer. We will have goody bags for children after prayer as well en sha’a Allah. \nPlease also bring your prayer rugs with you as we will only have a tarp.
URL:https://oicct.org/event/eid-prayer-4-21-2023/
LOCATION:Veteran’s Memorial Park\, 83 Walnut Grove Rd\, Middletown\, CT\, 06457\, United States
END:VEVENT
BEGIN:VEVENT
DTSTART;TZID=America/New_York:20230220T174000
DTEND;TZID=America/New_York:20230220T190000
DTSTAMP:20260423T105014
CREATED:20230220T024729Z
LAST-MODIFIED:20230220T025538Z
UID:729-1676914800-1676919600@oicct.org
SUMMARY:Monday Iftaar! 2/19
DESCRIPTION:السلام عليكم و رحمة الله و بركاته \n\n\n\nIt is our pleasure to invite you to a potluck iftaar at the Masjid tomorrow In Sha’a Allah. Many people and their kids will have the day off so let’s take this opportunity during the month of Rajab and on a Monday to fast a day for the sake of Allah SWT. \nWe look forward to seeing you all tomorrow In Sha’a Allah. Please bring a dish to share with your brothers and sisters! \n\n\n\nجزاكم الله خيرا كثيرا
URL:https://oicct.org/event/monday-iftaar-2-19/
LOCATION:Omar Islamic Center\, 24 Broad Street\, Middletown\, CT\, 06457\, United States
ATTACH;FMTTYPE=image/jpeg:https://oicct.org/wp-content/uploads/2023/01/IMG-20220212-WA0002.jpg
END:VEVENT
END:VCALENDAR